BEGIN:VCALENDAR
VERSION:2.0
PRODID:-//Delaware County Arts Consortium - ECPv6.15.20//NONSGML v1.0//EN
CALSCALE:GREGORIAN
METHOD:PUBLISH
X-ORIGINAL-URL:https://delcoarts.org
X-WR-CALDESC:Events for Delaware County Arts Consortium
REFRESH-INTERVAL;VALUE=DURATION:PT1H
X-Robots-Tag:noindex
X-PUBLISHED-TTL:PT1H
BEGIN:VTIMEZONE
TZID:America/New_York
BEGIN:DAYLIGHT
TZOFFSETFROM:-0500
TZOFFSETTO:-0400
TZNAME:EDT
DTSTART:20250309T070000
END:DAYLIGHT
BEGIN:STANDARD
TZOFFSETFROM:-0400
TZOFFSETTO:-0500
TZNAME:EST
DTSTART:20251102T060000
END:STANDARD
BEGIN:DAYLIGHT
TZOFFSETFROM:-0500
TZOFFSETTO:-0400
TZNAME:EDT
DTSTART:20260308T070000
END:DAYLIGHT
BEGIN:STANDARD
TZOFFSETFROM:-0400
TZOFFSETTO:-0500
TZNAME:EST
DTSTART:20261101T060000
END:STANDARD
BEGIN:DAYLIGHT
TZOFFSETFROM:-0500
TZOFFSETTO:-0400
TZNAME:EDT
DTSTART:20270314T070000
END:DAYLIGHT
BEGIN:STANDARD
TZOFFSETFROM:-0400
TZOFFSETTO:-0500
TZNAME:EST
DTSTART:20271107T060000
END:STANDARD
END:VTIMEZONE
BEGIN:VEVENT
DTSTART;TZID=America/New_York:20260418T100000
DTEND;TZID=America/New_York:20260418T150000
DTSTAMP:20260419T130457
CREATED:20260303T125107Z
LAST-MODIFIED:20260303T125543Z
UID:10011643-1776506400-1776524400@delcoarts.org
SUMMARY:Second Annual Delco Historical Conference
DESCRIPTION:Delaware County Historical Society (DCHS) cordially invites you to the Second Annual Delco Historical Conference on Saturday April 18th\, 2026\, at the Old Mill in Rose Valley. The Second Annual Delco Historical Conference brings together historic non-profits\, archives\, academics and like-minded groups to meet\, network and discuss on how to better promote and protect local history. The event will run from 10 am to 3 pm\, with walking tours available thanks to the Rose Valley Historical Society. \nThe conference will feature presentations from the Rose Valley Historical Society\, Rainie Williams of Cheyney University\, and Dyani Feige of the Conservation Center for Art and Historic Artifacts. There will be coffee and pastries served in the morning\, followed by a small catered lunch at the Thunderbird Lodge for lunch. Tickets are $40.00. Please RSVP by April 4\, as space is limited! Please click the link below for tickets and information. Join us for an incredible meeting of the Delco historic community to come together\, network\, and share insights into our promotion and protection of Delco history. Looking forward to seeing you there! \nMore Information and Tickets\n 
URL:https://delcoarts.org/event/second-annual-delco-historical-conference/
LOCATION:The Old Mill\, 9 Old Mill Lane\, Rose Valley\, PA\, 19063\, United States
CATEGORIES:Conference,Miscellaneous
ATTACH;FMTTYPE=image/webp:https://delcoarts.org/wp-content/uploads/2026/03/conference.webp
END:VEVENT
END:VCALENDAR